BEGIN:VCALENDAR
VERSION:2.0
PRODID:-//wp-events-plugin.com//7.2.3.1//EN
TZID:Europe/Paris
X-WR-TIMEZONE:Europe/Paris
BEGIN:VEVENT
UID:16@grandnancydefib.fr
DTSTART;TZID=Europe/Paris:20240413T090000
DTEND;TZID=Europe/Paris:20240413T130000
DTSTAMP:20240406T134344Z
URL:https://www.grandnancydefib.fr/agenda/assemblee-generale-2024-associat
 ion-gnd/
SUMMARY:Assemblée générale 2024 Association GND
DESCRIPTION:A noter dans les agendas la prochaine Assemblée Générale 202
 4 des adhérents de l'association Grand Nancy Défib samedi 13 avril 2024 
 de 9h à 13h salle des fêtes à Fléville devant Nancy.\n\n&nbsp\;
ATTACH;FMTTYPE=image/jpeg:https://www.grandnancydefib.fr/wp-content/upload
 s/2024/04/Affiche-AG2024-GND-V3.jpg
CATEGORIES:Organisation
LOCATION:Salle des Fêtes\, route de Lupcourt\, Fléville devant Nancy\, Fr
 ance
GEO:48.627718;6.213388
X-APPLE-STRUCTURED-LOCATION;VALUE=URI;X-ADDRESS=route de Lupcourt\, Flévil
 le devant Nancy\, France;X-APPLE-RADIUS=100;X-TITLE=Salle des Fêtes:geo:4
 8.627718,6.213388
END:VEVENT
BEGIN:VTIMEZONE
TZID:Europe/Paris
X-LIC-LOCATION:Europe/Paris
BEGIN:DAYLIGHT
DTSTART:20240331T030000
TZOFFSETFROM:+0100
TZOFFSETTO:+0200
TZNAME:CEST
END:DAYLIGHT
END:VTIMEZONE
END:VCALENDAR