BEGIN:VCALENDAR
VERSION:2.0
PRODID:-//wp-events-plugin.com//7.2.3.1//EN
TZID:Europe/Paris
X-WR-TIMEZONE:Europe/Paris
BEGIN:VEVENT
UID:93@grandnancydefib.fr
DTSTART;TZID=Europe/Paris:20250329T090000
DTEND;TZID=Europe/Paris:20250329T120000
DTSTAMP:20250213T160441Z
URL:https://www.grandnancydefib.fr/agenda/assemblee-generale-2025/
SUMMARY:Assemblée Générale 2025
DESCRIPTION:Lien inscription 👉 : https://www.grandnancydefib.fr/agenda/a
 ssemblee-generale-2025/
ATTACH;FMTTYPE=image/jpeg:https://www.grandnancydefib.fr/wp-content/upload
 s/2025/02/Affiche-AG2025-GND-V21-R.jpg
CATEGORIES:Vie associative
LOCATION:Foyer Culturel Gérard Léonard\, Place de l'Europe\, Saint Max\, 
 54130\, France
GEO:48.701679;6.207211
X-APPLE-STRUCTURED-LOCATION;VALUE=URI;X-ADDRESS=Place de l'Europe\, Saint M
 ax\, 54130\, France;X-APPLE-RADIUS=100;X-TITLE=Foyer Culturel Gérard Léo
 nard:geo:48.701679,6.207211
END:VEVENT
BEGIN:VTIMEZONE
TZID:Europe/Paris
X-LIC-LOCATION:Europe/Paris
BEGIN:STANDARD
DTSTART:20241027T020000
TZOFFSETFROM:+0200
TZOFFSETTO:+0100
TZNAME:CET
END:STANDARD
END:VTIMEZONE
END:VCALENDAR