BEGIN:VCALENDAR
VERSION:2.0
PRODID:-//wp-events-plugin.com//7.2.3.1//EN
TZID:Europe/Paris
X-WR-TIMEZONE:Europe/Paris
BEGIN:VEVENT
UID:235@grandnancydefib.fr
DTSTART;TZID=Europe/Paris:20260422T140000
DTEND;TZID=Europe/Paris:20260422T173000
DTSTAMP:20260310T160358Z
URL:https://www.grandnancydefib.fr/agenda/bois-de-haye-stand-gnd-ecole-des
 -champions/
SUMMARY:Bois de Haye Stand GND École des champions
DESCRIPTION:
CATEGORIES:Animation
LOCATION:Salle des Fêtes de Velaine-en-Haye\, 72 chemin de la Poste Velain
 e-en-Haye\, Bois-de-Haye\, 54840\, France
GEO:48.696371;6.030277
X-APPLE-STRUCTURED-LOCATION;VALUE=URI;X-ADDRESS=72 chemin de la Poste Velai
 ne-en-Haye\, Bois-de-Haye\, 54840\, France;X-APPLE-RADIUS=100;X-TITLE=Sall
 e des Fêtes de Velaine-en-Haye:geo:48.696371,6.030277
END:VEVENT
BEGIN:VTIMEZONE
TZID:Europe/Paris
X-LIC-LOCATION:Europe/Paris
BEGIN:DAYLIGHT
DTSTART:20260329T030000
TZOFFSETFROM:+0100
TZOFFSETTO:+0200
TZNAME:CEST
END:DAYLIGHT
END:VTIMEZONE
END:VCALENDAR