BEGIN:VCALENDAR
VERSION:2.0
PRODID:-//wp-events-plugin.com//7.2.3.1//EN
TZID:Europe/Paris
X-WR-TIMEZONE:Europe/Paris
BEGIN:VEVENT
UID:172@grandnancydefib.fr
DTSTART;TZID=Europe/Paris:20250903T000000
DTEND;TZID=Europe/Paris:20250903T000000
DTSTAMP:20250719T130358Z
URL:https://www.grandnancydefib.fr/agenda/bois-de-haye-stand-svp-au-don-du
 -sang/
SUMMARY:Bois de Haye - Stand SVP au Don du sang
DESCRIPTION:Les SVP vous attendent à Bois de Haye pendant la collecte de s
 ang pour apprendre à sauver une vie :\n➡️ Présentation du GND\n➡
 ️ Sensibilisation à l’arrêt cardiaque\n➡️ Démonstrations et éc
 hanges.\n\n
ATTACH;FMTTYPE=image/jpeg:https://www.grandnancydefib.fr/wp-content/upload
 s/2023/05/don-du-sang-efs.jpg
CATEGORIES:Animation
END:VEVENT
BEGIN:VTIMEZONE
TZID:Europe/Paris
X-LIC-LOCATION:Europe/Paris
BEGIN:DAYLIGHT
DTSTART:20250330T030000
TZOFFSETFROM:+0100
TZOFFSETTO:+0200
TZNAME:CEST
END:DAYLIGHT
END:VTIMEZONE
END:VCALENDAR