BEGIN:VCALENDAR
VERSION:2.0
PRODID:-//wp-events-plugin.com//7.2.3.1//EN
TZID:Europe/Paris
X-WR-TIMEZONE:Europe/Paris
BEGIN:VEVENT
UID:71@grandnancydefib.fr
DTSTART;TZID=Europe/Paris;VALUE=DATE:20231001
DTEND;TZID=Europe/Paris;VALUE=DATE:20231002
DTSTAMP:20230927T083913Z
URL:https://www.grandnancydefib.fr/agenda/brocante-custines/
SUMMARY:Brocante CUSTINES
DESCRIPTION:
CATEGORIES:Animation
END:VEVENT
BEGIN:VTIMEZONE
TZID:Europe/Paris
X-LIC-LOCATION:Europe/Paris
BEGIN:DAYLIGHT
DTSTART:20230326T030000
TZOFFSETFROM:+0100
TZOFFSETTO:+0200
TZNAME:CEST
END:DAYLIGHT
END:VTIMEZONE
END:VCALENDAR