BEGIN:VCALENDAR
VERSION:2.0
PRODID:-//wp-events-plugin.com//7.2.3.1//EN
TZID:Europe/Paris
X-WR-TIMEZONE:Europe/Paris
BEGIN:VEVENT
UID:40@grandnancydefib.fr
DTSTART;TZID=Europe/Paris:20230909T090000
DTEND;TZID=Europe/Paris:20230909T130000
DTSTAMP:20230827T181311Z
URL:https://www.grandnancydefib.fr/agenda/fleville-devant-nancy-forum-des-
 associations/
SUMMARY:Fléville devant Nancy. Forum des associations.
DESCRIPTION:
ATTACH;FMTTYPE=image/jpeg:https://www.grandnancydefib.fr/wp-content/upload
 s/2023/07/forum-assos-v2.jpg
CATEGORIES:Animation
LOCATION:Salle des sports\, Chemin de la Voivre\, Fléville devant Nancy\, 
 54710\, France
GEO:48.748122;6.207981
X-APPLE-STRUCTURED-LOCATION;VALUE=URI;X-ADDRESS=Chemin de la Voivre\, Flév
 ille devant Nancy\, 54710\, France;X-APPLE-RADIUS=100;X-TITLE=Salle des sp
 orts:geo:48.748122,6.207981
END:VEVENT
BEGIN:VTIMEZONE
TZID:Europe/Paris
X-LIC-LOCATION:Europe/Paris
BEGIN:DAYLIGHT
DTSTART:20230326T030000
TZOFFSETFROM:+0100
TZOFFSETTO:+0200
TZNAME:CEST
END:DAYLIGHT
END:VTIMEZONE
END:VCALENDAR