BEGIN:VCALENDAR
VERSION:2.0
PRODID:-//wp-events-plugin.com//7.2.3.1//EN
TZID:Europe/Paris
X-WR-TIMEZONE:Europe/Paris
BEGIN:VEVENT
UID:177@grandnancydefib.fr
DTSTART;TZID=Europe/Paris:20250906T090000
DTEND;TZID=Europe/Paris:20250906T120000
DTSTAMP:20250824T151154Z
URL:https://www.grandnancydefib.fr/agenda/forum-des-associations-fleville-
 devant-nancy/
SUMMARY:Forum des associations Fléville-devant-Nancy
DESCRIPTION:Au Forum des associations\, les SVP du GND de Fléville devant 
 Nancy viendront à la rencontre du public pour…\n➡️ Présentation d
 u GND\n➡️ Sensibilisation à l’arrêt cardiaque\n➡️ Démonstrati
 ons et échanges.
ATTACH;FMTTYPE=image/jpeg:https://www.grandnancydefib.fr/wp-content/upload
 s/2023/09/forum-associations-saulxures-2023.jpg
CATEGORIES:Animation
LOCATION:Salle des Fêtes\, route de Lupcourt\, Fléville devant Nancy\, Fr
 ance
GEO:48.627718;6.213388
X-APPLE-STRUCTURED-LOCATION;VALUE=URI;X-ADDRESS=route de Lupcourt\, Flévil
 le devant Nancy\, France;X-APPLE-RADIUS=100;X-TITLE=Salle des Fêtes:geo:4
 8.627718,6.213388
END:VEVENT
BEGIN:VTIMEZONE
TZID:Europe/Paris
X-LIC-LOCATION:Europe/Paris
BEGIN:DAYLIGHT
DTSTART:20250330T030000
TZOFFSETFROM:+0100
TZOFFSETTO:+0200
TZNAME:CEST
END:DAYLIGHT
END:VTIMEZONE
END:VCALENDAR