BEGIN:VCALENDAR
VERSION:2.0
PRODID:-//wp-events-plugin.com//7.2.3.1//EN
TZID:Europe/Paris
X-WR-TIMEZONE:Europe/Paris
BEGIN:VEVENT
UID:242@grandnancydefib.fr
DTSTART;TZID=Europe/Paris:20260409T193000
DTEND;TZID=Europe/Paris:20260409T214500
DTSTAMP:20260423T140943Z
URL:https://www.grandnancydefib.fr/agenda/initiation-aux-gestes-qui-sauven
 t-asso-don-du-sang-liverdun/
SUMMARY:Initiation aux Gestes Qui Sauvent Asso Don du Sang Liverdun
DESCRIPTION:Jeudi 9 avril se 19:30 à 21:45\n\nInitiation\, sensibilisation
  SVP\, et recrutement (?)
END:VEVENT
BEGIN:VTIMEZONE
TZID:Europe/Paris
X-LIC-LOCATION:Europe/Paris
BEGIN:DAYLIGHT
DTSTART:20260329T030000
TZOFFSETFROM:+0100
TZOFFSETTO:+0200
TZNAME:CEST
END:DAYLIGHT
END:VTIMEZONE
END:VCALENDAR