BEGIN:VCALENDAR
VERSION:2.0
PRODID:-//wp-events-plugin.com//7.2.3.1//EN
TZID:Europe/Paris
X-WR-TIMEZONE:Europe/Paris
BEGIN:VEVENT
UID:231@grandnancydefib.fr
DTSTART;TZID=Europe/Paris:20260213T164500
DTEND;TZID=Europe/Paris:20260213T190000
DTSTAMP:20260310T155129Z
URL:https://www.grandnancydefib.fr/agenda/initiation-gestes-qui-sauvent-qu
 artier-rond-chene-liverdun/
SUMMARY:Initiation gestes qui sauvent quartier Rond Chêne Liverdun
DESCRIPTION:Stand d’initiation aux gestes qui sauvent sur la prochaine an
 imation du quartier du rond chêne\, à Liverdun\, vendredi 13 février à
  partir de 16h45.\n
END:VEVENT
BEGIN:VTIMEZONE
TZID:Europe/Paris
X-LIC-LOCATION:Europe/Paris
BEGIN:STANDARD
DTSTART:20251026T020000
TZOFFSETFROM:+0200
TZOFFSETTO:+0100
TZNAME:CET
END:STANDARD
END:VTIMEZONE
END:VCALENDAR