BEGIN:VCALENDAR
VERSION:2.0
PRODID:-//wp-events-plugin.com//7.2.3.1//EN
TZID:Europe/Paris
X-WR-TIMEZONE:Europe/Paris
BEGIN:VEVENT
UID:44@grandnancydefib.fr
DTSTART;TZID=Europe/Paris:20230924T080000
DTEND;TZID=Europe/Paris:20230924T180000
DTSTAMP:20230708T130819Z
URL:https://www.grandnancydefib.fr/agenda/ludres-fete-communale-et-vide-gr
 eniers/
SUMMARY:Ludres. Fête Communale et vide-greniers.
DESCRIPTION:
CATEGORIES:Animation
END:VEVENT
BEGIN:VTIMEZONE
TZID:Europe/Paris
X-LIC-LOCATION:Europe/Paris
BEGIN:DAYLIGHT
DTSTART:20230326T030000
TZOFFSETFROM:+0100
TZOFFSETTO:+0200
TZNAME:CEST
END:DAYLIGHT
END:VTIMEZONE
END:VCALENDAR