BEGIN:VCALENDAR
VERSION:2.0
PRODID:-//wp-events-plugin.com//7.2.3.1//EN
TZID:Europe/Paris
X-WR-TIMEZONE:Europe/Paris
BEGIN:VEVENT
UID:136@grandnancydefib.fr
DTSTART;TZID=Europe/Paris:20250114T183000
DTEND;TZID=Europe/Paris:20250114T203000
DTSTAMP:20241125T101806Z
URL:https://www.grandnancydefib.fr/agenda/maintien-des-acquis-champigneull
 es-2/
SUMMARY:Maintien des acquis CHAMPIGNEULLES
DESCRIPTION:Le recyclage annuel\, d’une durée de 2h00 environ\, permet d
 e maintenir ses compétences afin d’intervenir efficacement face à un a
 rrêt cardiaque.\n\nIl comprend notamment :\n\n 	un retour d’expérience
 \n 	un entraînement à l’utilisation du DAE et à la pratique du massag
 e cardiaque\n 	des simulations d’intervention\n\n&nbsp\;\n\nANIMATEUR : 
 Johan 06 18 44 14 86
LOCATION:SALLE POLYVALENTE DU MOULIN DES GENERATION\, 34 RUE DE NANCY \, CH
 AMPIGNEULLE\, 54250\, France
GEO:48.731284;6.168888
X-APPLE-STRUCTURED-LOCATION;VALUE=URI;X-ADDRESS=34 RUE DE NANCY \, CHAMPIGN
 EULLE\, 54250\, France;X-APPLE-RADIUS=100;X-TITLE=SALLE POLYVALENTE DU MOU
 LIN DES GENERATION:geo:48.731284,6.168888
END:VEVENT
BEGIN:VTIMEZONE
TZID:Europe/Paris
X-LIC-LOCATION:Europe/Paris
BEGIN:STANDARD
DTSTART:20241027T020000
TZOFFSETFROM:+0200
TZOFFSETTO:+0100
TZNAME:CET
END:STANDARD
END:VTIMEZONE
END:VCALENDAR