BEGIN:VCALENDAR
VERSION:2.0
PRODID:-//wp-events-plugin.com//7.2.3.1//EN
TZID:Europe/Paris
X-WR-TIMEZONE:Europe/Paris
BEGIN:VEVENT
UID:215@grandnancydefib.fr
DTSTART;TZID=Europe/Paris:20251129T090000
DTEND;TZID=Europe/Paris:20251129T110000
DTSTAMP:20251120T153556Z
URL:https://www.grandnancydefib.fr/agenda/maintien-des-acquis-essey-les-na
 ncy-2/
SUMMARY:Maintien des acquis Essey les Nancy
DESCRIPTION:\nCe recyclage annuel\, d'une durée de 2h00 environ\, permet d
 e maintenir ses compétences afin d'intervenir efficacement face à un arr
 êt cardiaque.\n\nIl comprend notamment :\n\n 	un retour d’expérience\n
  	un entraînement à l’utilisation du DAE et à la pratique du massage 
 cardiaque\n 	des simulations d’intervention\n\nCette session étant limi
 tée à 12 personnes\, il est nécessaire de s'y inscrire à l'aide du bil
 let d'inscription ci-dessous.\n\nFormation animée par Isabelle
CATEGORIES:Maintien des acquis
LOCATION:Salons du Haut Chateau\, rue Chanoine Laurent\, ESSEY-LES-NANCY\, 
 54270\, France
GEO:48.706978;6.219261
X-APPLE-STRUCTURED-LOCATION;VALUE=URI;X-ADDRESS=rue Chanoine Laurent\, ESSE
 Y-LES-NANCY\, 54270\, France;X-APPLE-RADIUS=100;X-TITLE=Salons du Haut Cha
 teau:geo:48.706978,6.219261
END:VEVENT
BEGIN:VTIMEZONE
TZID:Europe/Paris
X-LIC-LOCATION:Europe/Paris
BEGIN:STANDARD
DTSTART:20251026T020000
TZOFFSETFROM:+0200
TZOFFSETTO:+0100
TZNAME:CET
END:STANDARD
END:VTIMEZONE
END:VCALENDAR