BEGIN:VCALENDAR
VERSION:2.0
PRODID:-//wp-events-plugin.com//7.2.3.1//EN
TZID:Europe/Paris
X-WR-TIMEZONE:Europe/Paris
BEGIN:VEVENT
UID:126@grandnancydefib.fr
DTSTART;TZID=Europe/Paris:20241116T090000
DTEND;TZID=Europe/Paris:20241116T120000
DTSTAMP:20241108T173004Z
URL:https://www.grandnancydefib.fr/agenda/maintien-des-acquis-essey-les-na
 ncy/
SUMMARY:Maintien des acquis ESSEY-LES-NANCY
DESCRIPTION:Le recyclage annuel\, d’une durée de 2h00 environ\, permet d
 e maintenir ses compétences afin d’intervenir efficacement face à un a
 rrêt cardiaque.\n\nIl comprend notamment :\n\n 	un retour d’expérience
 \n 	un entraînement à l’utilisation du DAE et à la pratique du massag
 e cardiaque\n 	des simulations d’intervention\n 	Samedi 16 Novembre 2024
  Essey-lès-Nancy .\n\n. Formatrice  isabelle
LOCATION:maison des associations salle Goutorbe\, 1 rue des basses ruelles 
 \, ESSEY-LES-NANCY\, 54270\, France
GEO:48.705908;6.220981
X-APPLE-STRUCTURED-LOCATION;VALUE=URI;X-ADDRESS=1 rue des basses ruelles \,
  ESSEY-LES-NANCY\, 54270\, France;X-APPLE-RADIUS=100;X-TITLE=maison des as
 sociations salle Goutorbe:geo:48.705908,6.220981
END:VEVENT
BEGIN:VTIMEZONE
TZID:Europe/Paris
X-LIC-LOCATION:Europe/Paris
BEGIN:STANDARD
DTSTART:20241027T020000
TZOFFSETFROM:+0200
TZOFFSETTO:+0100
TZNAME:CET
END:STANDARD
END:VTIMEZONE
END:VCALENDAR