BEGIN:VCALENDAR
VERSION:2.0
PRODID:-//wp-events-plugin.com//7.2.3.1//EN
TZID:Europe/Paris
X-WR-TIMEZONE:Europe/Paris
BEGIN:VEVENT
UID:216@grandnancydefib.fr
DTSTART;TZID=Europe/Paris:20251128T183000
DTEND;TZID=Europe/Paris:20251128T203000
DTSTAMP:20251120T153533Z
URL:https://www.grandnancydefib.fr/agenda/maintien-des-acquis-fleville/
SUMMARY:Maintien des acquis Fleville
DESCRIPTION:\nCe recyclage annuel\, d'une durée de 2h00 environ\, permet d
 e maintenir ses compétences afin d'intervenir efficacement face à un arr
 êt cardiaque.\n\nIl comprend notamment :\n\n 	un retour d’expérience\n
  	un entraînement à l’utilisation du DAE et à la pratique du massage 
 cardiaque\n 	des simulations d’intervention\n\nCette session étant limi
 tée à 12 personnes\, il est nécessaire de s'y inscrire à l'aide du bil
 let d'inscription ci-dessous.\n\n&nbsp\;
CATEGORIES:Maintien des acquis
LOCATION:Maison des associations\, rond point Armsheim\, Fléville devant N
 ancy\, 54710\, France
GEO:48.643622;6.209153
X-APPLE-STRUCTURED-LOCATION;VALUE=URI;X-ADDRESS=rond point Armsheim\, Flév
 ille devant Nancy\, 54710\, France;X-APPLE-RADIUS=100;X-TITLE=Maison des a
 ssociations:geo:48.643622,6.209153
END:VEVENT
BEGIN:VTIMEZONE
TZID:Europe/Paris
X-LIC-LOCATION:Europe/Paris
BEGIN:STANDARD
DTSTART:20251026T020000
TZOFFSETFROM:+0200
TZOFFSETTO:+0100
TZNAME:CET
END:STANDARD
END:VTIMEZONE
END:VCALENDAR