BEGIN:VCALENDAR
VERSION:2.0
PRODID:-//wp-events-plugin.com//7.2.3.1//EN
TZID:Europe/Paris
X-WR-TIMEZONE:Europe/Paris
BEGIN:VEVENT
UID:6@grandnancydefib.fr
DTSTART;TZID=Europe/Paris:20230416T143000
DTEND;TZID=Europe/Paris:20230416T163000
DTSTAMP:20230403T144323Z
URL:https://www.grandnancydefib.fr/agenda/maintien-des-acquis-police-munic
 ipale-villers-les-nancy/
SUMMARY:Maintien des acquis Police Municipale Villers-lès-Nancy
DESCRIPTION:Ce recyclage annuel\, d'une durée de 2h00 environ\, permet de 
 maintenir ses compétences afin d'intervenir efficacement face à un arrê
 t cardiaque.\n\nIl comprend notamment :\n\n 	un retour d’expérience\n 	
 un entraînement à l’utilisation du DAE et à la pratique du massage ca
 rdiaque\n 	des simulations d’intervention\n\nCette session étant limit
 ée à 12 personnes\, il est nécessaire de s'y inscrire ci-dessous :\n
LOCATION:Centre du Placieux\, 16 Bd Dr Cattenoz\, Villers-lès-Nancy\, 5460
 0\, France
GEO:48.672688;6.159929
X-APPLE-STRUCTURED-LOCATION;VALUE=URI;X-ADDRESS=16 Bd Dr Cattenoz\, Villers
 -lès-Nancy\, 54600\, France;X-APPLE-RADIUS=100;X-TITLE=Centre du Placieux
 :geo:48.672688,6.159929
END:VEVENT
BEGIN:VTIMEZONE
TZID:Europe/Paris
X-LIC-LOCATION:Europe/Paris
BEGIN:DAYLIGHT
DTSTART:20230326T030000
TZOFFSETFROM:+0100
TZOFFSETTO:+0200
TZNAME:CEST
END:DAYLIGHT
END:VTIMEZONE
END:VCALENDAR