BEGIN:VCALENDAR
VERSION:2.0
PRODID:-//wp-events-plugin.com//7.2.3.1//EN
TZID:Europe/Paris
X-WR-TIMEZONE:Europe/Paris
BEGIN:VEVENT
UID:43@grandnancydefib.fr
DTSTART;TZID=Europe/Paris:20230916T080000
DTEND;TZID=Europe/Paris:20230916T180000
DTSTAMP:20230708T105135Z
URL:https://www.grandnancydefib.fr/agenda/nancy-journee-des-associations/
SUMMARY:Nancy. Journée des associations.
DESCRIPTION:
ATTACH;FMTTYPE=image/jpeg:https://www.grandnancydefib.fr/wp-content/upload
 s/2023/07/journee-assos.jpg
CATEGORIES:Animation
LOCATION:Centre ville\, Place de la Carrière\, Nancy\, 54000\, France
GEO:48.695781;6.181425
X-APPLE-STRUCTURED-LOCATION;VALUE=URI;X-ADDRESS=Place de la Carrière\, Nan
 cy\, 54000\, France;X-APPLE-RADIUS=100;X-TITLE=Centre ville:geo:48.695781,
 6.181425
END:VEVENT
BEGIN:VTIMEZONE
TZID:Europe/Paris
X-LIC-LOCATION:Europe/Paris
BEGIN:DAYLIGHT
DTSTART:20230326T030000
TZOFFSETFROM:+0100
TZOFFSETTO:+0200
TZNAME:CEST
END:DAYLIGHT
END:VTIMEZONE
END:VCALENDAR