BEGIN:VCALENDAR
VERSION:2.0
PRODID:-//wp-events-plugin.com//7.2.3.1//EN
TZID:Europe/Paris
X-WR-TIMEZONE:Europe/Paris
BEGIN:VEVENT
UID:180@grandnancydefib.fr
DTSTART;TZID=Europe/Paris:20250705T093000
DTEND;TZID=Europe/Paris:20250705T123000
DTSTAMP:20250703T164649Z
URL:https://www.grandnancydefib.fr/agenda/reunion-dintegration-a-lupcourt/
SUMMARY:Réunion d'intégration à LUPCOURT
DESCRIPTION:Cette réunion\, d'une durée de 3h00\, est réservée aux pers
 onnes souhaitant devenir SVP. \nElle est composée :\n\n 	d'une partie th
 éorique\, qui aborde les points suivants :\n\n\n 	\n\n 	arrêt cardiaque\
 n 	association Grand Nancy Défi’b\n 	applications pour sauver des vies\
 n 	préparation et déclenchement des SVP\n\n\n\n\n 	d'une partie pratique
 \, consacrée à l'apprentissage des gestes qui sauvent (pose d'un défibr
 illateur et réalisation d'un massage cardiaque).\n\nCette session étant 
 limitée à 12 personnes\, il est nécessaire de s'y inscrire .
ATTACH;FMTTYPE=image/jpeg:https://www.grandnancydefib.fr/wp-content/upload
 s/2023/05/image-reunion-integrationR.jpg
CATEGORIES:Intégration
LOCATION:Salle Polyvalente - Voir | Modifier 14 Grande Rue - Lupcourt\, 	14
  Grande Rue - Lupcourt\, LUPCOURT \, 54210\, France
GEO:48.584299;6.247841
X-APPLE-STRUCTURED-LOCATION;VALUE=URI;X-ADDRESS=	14 Grande Rue - Lupcourt\,
  LUPCOURT \, 54210\, France;X-APPLE-RADIUS=100;X-TITLE=Salle Polyvalente -
  Voir | Modifier 14 Grande Rue - Lupcourt:geo:48.584299,6.247841
END:VEVENT
BEGIN:VTIMEZONE
TZID:Europe/Paris
X-LIC-LOCATION:Europe/Paris
BEGIN:DAYLIGHT
DTSTART:20250330T030000
TZOFFSETFROM:+0100
TZOFFSETTO:+0200
TZNAME:CEST
END:DAYLIGHT
END:VTIMEZONE
END:VCALENDAR