BEGIN:VCALENDAR
VERSION:2.0
PRODID:-//wp-events-plugin.com//7.2.3.1//EN
TZID:Europe/Paris
X-WR-TIMEZONE:Europe/Paris
BEGIN:VEVENT
UID:179@grandnancydefib.fr
DTSTART;TZID=Europe/Paris:20250716T193000
DTEND;TZID=Europe/Paris:20250716T223000
DTSTAMP:20250702T124842Z
URL:https://www.grandnancydefib.fr/agenda/reunion-dintegration-villers-les
 -nancy-4/
SUMMARY:Réunion d'Intégration VILLERS-LES-NANCY
DESCRIPTION:Cette réunion\, d’une durée de 3h00\, est réservée aux pe
 rsonnes souhaitant devenir SVP.\nElle est composée :\n\n 	d’une partie 
 théorique\, qui aborde les points suivants\n\n\n 	arrêt cardiaque\n 	ass
 ociation Grand Nancy Défi’b\n 	applications pour sauver des vies\n 	pr
 éparation et déclenchement des SVP\n\n\n 	d’une partie pratique\, cons
 acrée à l’apprentissage des gestes qui sauvent (pose d’un défibrill
 ateur et réalisation d’un massage cardiaque).\n\nCette session étant l
 imitée à 12 personnes\, il est nécessaire de s’y inscrire à l’aide
  du billet d’inscription ci-dessous.\n\nanimateur : Philippe
CATEGORIES:Intégration
LOCATION:l'Espace Marcel Pagnol - Salle de formation de l'UDPS 54 -\, Rue P
 ierre de Coubertin - Clairlieu\, VILLERS-LES-NANCY \, 54600\, France
GEO:48.653734;6.112371
X-APPLE-STRUCTURED-LOCATION;VALUE=URI;X-ADDRESS=Rue Pierre de Coubertin - C
 lairlieu\, VILLERS-LES-NANCY \, 54600\, France;X-APPLE-RADIUS=100;X-TITLE=
 l'Espace Marcel Pagnol - Salle de formation de l'UDPS 54 -:geo:48.653734,6
 .112371
END:VEVENT
BEGIN:VTIMEZONE
TZID:Europe/Paris
X-LIC-LOCATION:Europe/Paris
BEGIN:DAYLIGHT
DTSTART:20250330T030000
TZOFFSETFROM:+0100
TZOFFSETTO:+0200
TZNAME:CEST
END:DAYLIGHT
END:VTIMEZONE
END:VCALENDAR