BEGIN:VCALENDAR
VERSION:2.0
PRODID:-//wp-events-plugin.com//7.2.3.1//EN
TZID:Europe/Paris
X-WR-TIMEZONE:Europe/Paris
BEGIN:VEVENT
UID:11@grandnancydefib.fr
DTSTART;TZID=Europe/Paris:20230516T183000
DTEND;TZID=Europe/Paris:20230516T210000
DTSTAMP:20230516T155813Z
URL:https://www.grandnancydefib.fr/agenda/reunion-integration-a-malleloy/
SUMMARY:Réunion Intégration à Malleloy
DESCRIPTION:Cette réunion\, d'une durée de 3h00\, est réservée aux pers
 onnes souhaitant devenir SVP. \nElle est composée :\n\n 	d'une partie th
 éorique\, qui aborde les points suivants :\n\n\n 	\n\n 	arrêt cardiaque\
 n 	association Grand Nancy Défi’b\n 	applications pour sauver des vies\
 n 	préparation et déclenchement des SVP\n\n\n\n\n 	d'une partie pratique
 \, consacrée à l'apprentissage des gestes qui sauvent (pose d'un défibr
 illateur et réalisation d'un massage cardiaque).\n\nCette session étant 
 limitée à 12 personnes\, il est nécessaire de s'y inscrire à l'aide du
  billet d'inscription ci-dessous.\n\nTel 06 18 95 82 25
ATTACH;FMTTYPE=image/jpeg:https://www.grandnancydefib.fr/wp-content/upload
 s/2023/05/image-reunion-integrationR.jpg
CATEGORIES:Intégration
LOCATION:Salle Mille Clubs\, 47 rue Venezu\, Malleloy\, France\, 54670\, Fr
 ance
GEO:48.792846;6.168643
X-APPLE-STRUCTURED-LOCATION;VALUE=URI;X-ADDRESS=47 rue Venezu\, Malleloy\, 
 France\, 54670\, France;X-APPLE-RADIUS=100;X-TITLE=Salle Mille Clubs:geo:4
 8.792846,6.168643
END:VEVENT
BEGIN:VTIMEZONE
TZID:Europe/Paris
X-LIC-LOCATION:Europe/Paris
BEGIN:DAYLIGHT
DTSTART:20230326T030000
TZOFFSETFROM:+0100
TZOFFSETTO:+0200
TZNAME:CEST
END:DAYLIGHT
END:VTIMEZONE
END:VCALENDAR