BEGIN:VCALENDAR
VERSION:2.0
PRODID:-//wp-events-plugin.com//7.2.3.1//EN
TZID:Europe/Paris
X-WR-TIMEZONE:Europe/Paris
BEGIN:VEVENT
UID:233@grandnancydefib.fr
DTSTART;TZID=Europe/Paris:20260426T080000
DTEND;TZID=Europe/Paris:20260426T180000
DTSTAMP:20260310T155017Z
URL:https://www.grandnancydefib.fr/agenda/saint-max-stand-svp-31e-foire-a-
 tout/
SUMMARY:Saint Max\, Stand SVP 31e Foire à tout
DESCRIPTION:
ATTACH;FMTTYPE=image/jpeg:https://www.grandnancydefib.fr/wp-content/upload
 s/2026/03/foire-a-tout-st-max-260426.jpg
CATEGORIES:Animation
LOCATION:Ruelle Saint Médard\, ruelle Saint Médard\, Saint Max\, 54130\, 
 France
GEO:48.706765;6.211488
X-APPLE-STRUCTURED-LOCATION;VALUE=URI;X-ADDRESS=ruelle Saint Médard\, Sain
 t Max\, 54130\, France;X-APPLE-RADIUS=100;X-TITLE=Ruelle Saint Médard:geo
 :48.706765,6.211488
END:VEVENT
BEGIN:VTIMEZONE
TZID:Europe/Paris
X-LIC-LOCATION:Europe/Paris
BEGIN:DAYLIGHT
DTSTART:20260329T030000
TZOFFSETFROM:+0100
TZOFFSETTO:+0200
TZNAME:CEST
END:DAYLIGHT
END:VTIMEZONE
END:VCALENDAR