BEGIN:VCALENDAR
VERSION:2.0
PRODID:-//wp-events-plugin.com//7.2.3.1//EN
TZID:Europe/Paris
X-WR-TIMEZONE:Europe/Paris
BEGIN:VEVENT
UID:38@grandnancydefib.fr
DTSTART;TZID=Europe/Paris:20230909T140000
DTEND;TZID=Europe/Paris:20230909T180000
DTSTAMP:20230908T160843Z
URL:https://www.grandnancydefib.fr/agenda/saulxures-les-nancy-forum-des-as
 sociations/
SUMMARY:Saulxures lès Nancy. Forum des associations
DESCRIPTION:
ATTACH;FMTTYPE=image/jpeg:https://www.grandnancydefib.fr/wp-content/upload
 s/2023/09/forum-associations-saulxures-2023.jpg
CATEGORIES:Animation
LOCATION:Salle Omnisports\, 15 rue d'Essey\, Saulxures lès Nancy\, 54420\,
  France
GEO:48.688846;6.244481
X-APPLE-STRUCTURED-LOCATION;VALUE=URI;X-ADDRESS=15 rue d'Essey\, Saulxures 
 lès Nancy\, 54420\, France;X-APPLE-RADIUS=100;X-TITLE=Salle Omnisports:ge
 o:48.688846,6.244481
END:VEVENT
BEGIN:VTIMEZONE
TZID:Europe/Paris
X-LIC-LOCATION:Europe/Paris
BEGIN:DAYLIGHT
DTSTART:20230326T030000
TZOFFSETFROM:+0100
TZOFFSETTO:+0200
TZNAME:CEST
END:DAYLIGHT
END:VTIMEZONE
END:VCALENDAR