BEGIN:VCALENDAR
VERSION:2.0
PRODID:-//wp-events-plugin.com//7.2.3.1//EN
TZID:Europe/Paris
X-WR-TIMEZONE:Europe/Paris
BEGIN:VEVENT
UID:234@grandnancydefib.fr
DTSTART;TZID=Europe/Paris:20260408T193000
DTEND;TZID=Europe/Paris:20260408T213000
DTSTAMP:20260310T213440Z
URL:https://www.grandnancydefib.fr/agenda/villers-les-nancy-session-mainti
 ent-des-acquis/
SUMMARY:Villers lès Nancy Session maintien des acquis
DESCRIPTION:Ce recyclage annuel\, d'une durée de 2h00 environ\, permet de 
 maintenir ses compétences afin d'intervenir efficacement face à un arrê
 t cardiaque.\n\nIl comprend notamment :\n  ♥ un retour d’expérience 
 \;\n  ♥ un entraînement à l’utilisation du DAE et à la pratique du
  massage cardiaque \;\n  ♥ des simulations d’intervention.\n\nCette s
 ession étant limitée à 12 personnes\, il est nécessaire de s'y inscrir
 e à l'aide du billet d'inscription ci-dessous.\n\nFormation animée par A
 lix GUPPILLOTTE.\n\nAdresse : Espace Marcel Pagnol\n(salle de formation de
  l'UDPS)\nAngle rue Pierre de Coubertin / rue des Fourchons\nClairlieu\n54
 600 Villers-lès-Nancy\n\n&nbsp\;
ATTACH;FMTTYPE=image/jpeg:https://www.grandnancydefib.fr/wp-content/upload
 s/2023/05/image-reunion-maintien-acquisR.jpg
CATEGORIES:Maintien des acquis
LOCATION:l'Espace Marcel Pagnol - Salle de formation de l'UDPS 54 -\, Rue P
 ierre de Coubertin - Clairlieu\, VILLERS-LES-NANCY \, 54600\, France
GEO:48.653734;6.112371
X-APPLE-STRUCTURED-LOCATION;VALUE=URI;X-ADDRESS=Rue Pierre de Coubertin - C
 lairlieu\, VILLERS-LES-NANCY \, 54600\, France;X-APPLE-RADIUS=100;X-TITLE=
 l'Espace Marcel Pagnol - Salle de formation de l'UDPS 54 -:geo:48.653734,6
 .112371
END:VEVENT
BEGIN:VTIMEZONE
TZID:Europe/Paris
X-LIC-LOCATION:Europe/Paris
BEGIN:DAYLIGHT
DTSTART:20260329T030000
TZOFFSETFROM:+0100
TZOFFSETTO:+0200
TZNAME:CEST
END:DAYLIGHT
END:VTIMEZONE
END:VCALENDAR